BEGIN:VCALENDAR
VERSION:2.0
PRODID:-//VCSM - ECPv6.15.16//NONSGML v1.0//EN
CALSCALE:GREGORIAN
METHOD:PUBLISH
X-WR-CALNAME:VCSM
X-ORIGINAL-URL:http://vcsm71.fr
X-WR-CALDESC:Évènements pour VCSM
REFRESH-INTERVAL;VALUE=DURATION:PT1H
X-Robots-Tag:noindex
X-PUBLISHED-TTL:PT1H
BEGIN:VTIMEZONE
TZID:UTC
BEGIN:STANDARD
TZOFFSETFROM:+0000
TZOFFSETTO:+0000
TZNAME:UTC
DTSTART:20150101T000000
END:STANDARD
END:VTIMEZONE
BEGIN:VEVENT
DTSTART;TZID=UTC:20240106T200000
DTEND;TZID=UTC:20240106T233000
DTSTAMP:20260421T130147
CREATED:20231226T071718Z
LAST-MODIFIED:20231226T071718Z
UID:8756-1704571200-1704583800@vcsm71.fr
SUMMARY:Galette
DESCRIPTION:
URL:http://vcsm71.fr/event/galette/
LOCATION:Salle René-Gressard\, Saint-Marcel 71380\, France
END:VEVENT
BEGIN:VEVENT
DTSTART;VALUE=DATE:20180608
DTEND;VALUE=DATE:20180611
DTSTAMP:20260421T130147
CREATED:20180606T231151Z
LAST-MODIFIED:20180606T231151Z
UID:3718-1528416000-1528675199@vcsm71.fr
SUMMARY:Sortie familiale à Villers-le-Lac
DESCRIPTION:Vendredi 8\, samedi 9 et dimanche 10 une partie des membres du Vélo-Club se rendront à Villers-le-Lac à l’occasion de la traditionnelle sortie familiale.
URL:http://vcsm71.fr/event/sortie-familiale-a-villers-le-lac/
LOCATION:Villers-le-Lac\, Evasion tonique
END:VEVENT
BEGIN:VEVENT
DTSTART;TZID=UTC:20170225T140000
DTEND;TZID=UTC:20170225T173000
DTSTAMP:20260421T130147
CREATED:20170127T134116Z
LAST-MODIFIED:20170127T134116Z
UID:2450-1488031200-1488043800@vcsm71.fr
SUMMARY:Brevet
DESCRIPTION:
URL:http://vcsm71.fr/event/brevet-2/
END:VEVENT
BEGIN:VEVENT
DTSTART;TZID=UTC:20161125T203000
DTEND;TZID=UTC:20161125T203000
DTSTAMP:20260421T130147
CREATED:20161017T224007Z
LAST-MODIFIED:20161017T224007Z
UID:2289-1480105800-1480105800@vcsm71.fr
SUMMARY:Assemblée générale
DESCRIPTION:
URL:http://vcsm71.fr/event/assemblee-generale/
LOCATION:Local du Club\, 17\, rue Saint-Fiacre\, Saint-Marcel\, 71380
END:VEVENT
BEGIN:VEVENT
DTSTART;TZID=UTC:20161120T123000
DTEND;TZID=UTC:20161120T123000
DTSTAMP:20260421T130147
CREATED:20161017T222928Z
LAST-MODIFIED:20161017T223656Z
UID:2285-1479645000-1479645000@vcsm71.fr
SUMMARY:Repas de fin d'année
DESCRIPTION:Au restaurant Le Magny
URL:http://vcsm71.fr/event/repas-de-fin-dannee/
LOCATION:Sassenay\, Bourg\, Sassenay\, 71530\, France
END:VEVENT
BEGIN:VEVENT
DTSTART;TZID=UTC:20161007T203000
DTEND;TZID=UTC:20161007T203000
DTSTAMP:20260421T130147
CREATED:20161005T064910Z
LAST-MODIFIED:20161005T070024Z
UID:2263-1475872200-1475872200@vcsm71.fr
SUMMARY:Réunion hebdomadaire
DESCRIPTION:
URL:http://vcsm71.fr/event/reunion-hebdomadaire/
END:VEVENT
BEGIN:VEVENT
DTSTART;TZID=UTC:20160911T140000
DTEND;TZID=UTC:20160911T140000
DTSTAMP:20260421T130147
CREATED:20160902T174343Z
LAST-MODIFIED:20160902T174439Z
UID:2165-1473602400-1473602400@vcsm71.fr
SUMMARY:Championnat S.et-L. par équipes
DESCRIPTION:
URL:http://vcsm71.fr/event/championnat-s-et-l-par-equipes/
LOCATION:Lieu sans nom\, saint martin en bresse
END:VEVENT
BEGIN:VEVENT
DTSTART;TZID=UTC:20160909T083000
DTEND;TZID=UTC:20160909T083000
DTSTAMP:20260421T130147
CREATED:20160902T173919Z
LAST-MODIFIED:20160902T173919Z
UID:2163-1473409800-1473409800@vcsm71.fr
SUMMARY:Réunion du club
DESCRIPTION:Réunion du club vendredi 9 septembre
URL:http://vcsm71.fr/event/reunion-du-club/
LOCATION:local
END:VEVENT
BEGIN:VEVENT
DTSTART;TZID=UTC:20160611T080000
DTEND;TZID=UTC:20160612T170000
DTSTAMP:20260421T130147
CREATED:20160509T120024Z
LAST-MODIFIED:20160509T120024Z
UID:1722-1465632000-1465750800@vcsm71.fr
SUMMARY:Sortie familiale
DESCRIPTION:
URL:http://vcsm71.fr/event/sortie-familiale/
LOCATION:Alsace\, 16 Rue du Bouxhof\, Mittelwihr\, Alsace\, France Métropolitaine
END:VEVENT
BEGIN:VEVENT
DTSTART;TZID=UTC:20160528T080000
DTEND;TZID=UTC:20160528T170000
DTSTAMP:20260421T130147
CREATED:20160509T210447Z
LAST-MODIFIED:20160509T210447Z
UID:1726-1464422400-1464454800@vcsm71.fr
SUMMARY:Sortie longue distance
DESCRIPTION:S’inscrire avant le 15 mai auprès de Nicolas Arnaud
URL:http://vcsm71.fr/event/sortie-longue-distance/
END:VEVENT
BEGIN:VEVENT
DTSTART;TZID=UTC:20160521T140000
DTEND;TZID=UTC:20160521T190000
DTSTAMP:20260421T130147
CREATED:20160509T211329Z
LAST-MODIFIED:20160509T213214Z
UID:1728-1463839200-1463857200@vcsm71.fr
SUMMARY:Prix de Vincelles
DESCRIPTION:Organisé par le Vélo-Club de Saint-Marcel
URL:http://vcsm71.fr/event/prix-de-vincelles/
LOCATION:Vincelles\, Bourg\, Vincelles\, 71500\, France Métropolitaine
END:VEVENT
BEGIN:VEVENT
DTSTART;VALUE=DATE:20160227
DTEND;VALUE=DATE:20160228
DTSTAMP:20260421T130147
CREATED:20160209T134359Z
LAST-MODIFIED:20160209T134513Z
UID:1521-1456531200-1456617599@vcsm71.fr
SUMMARY:Brevet
DESCRIPTION:Brevet annuel 14 h
URL:http://vcsm71.fr/event/brevet/
LOCATION:Local du Club\, 17\, rue Saint-Fiacre\, Saint-Marcel\, 71380
END:VEVENT
BEGIN:VEVENT
DTSTART;TZID=UTC:20160115T203000
DTEND;TZID=UTC:20160115T203000
DTSTAMP:20260421T130147
CREATED:20160101T233948Z
LAST-MODIFIED:20160101T233948Z
UID:1409-1452889800-1452889800@vcsm71.fr
SUMMARY:Réunion  01
DESCRIPTION:Réunion à 20 h 30
URL:http://vcsm71.fr/event/reunion-01/
END:VEVENT
BEGIN:VEVENT
DTSTART;TZID=UTC:20160115T201500
DTEND;TZID=UTC:20160115T201500
DTSTAMP:20260421T130147
CREATED:20160111T130510Z
LAST-MODIFIED:20160111T130510Z
UID:1452-1452888900-1452888900@vcsm71.fr
SUMMARY:Réunion mensuelle
DESCRIPTION:La prochaine réunion mensuelle aura lieu le vendredi 15 janvier à 20 h 15\nOrdre du jour : prise de licence\, inscription sortie familiale\, prise de vue\npour compléter trombinoscope.
URL:http://vcsm71.fr/event/reunion-mensuelle/
END:VEVENT
END:VCALENDAR